BEGIN:VCALENDAR
PRODID:-//eluceo/ical//2.0/EN
VERSION:2.0
CALSCALE:GREGORIAN
BEGIN:VEVENT
UID:a477a75c-357a-4f72-911f-6bdf7747c61c
DTSTAMP:20260420T205732Z
SUMMARY:Stammtisch
DESCRIPTION:<p>Unser Stammtisch an jedem ersten Mittwoch im Monat</p>
DTSTART:20260506T193000
DTEND:20260506T220000
LOCATION:Stammlokal
END:VEVENT
BEGIN:VTIMEZONE
TZID:UTC
BEGIN:STANDARD
DTSTART:20260506T193000
TZNAME:UTC
TZOFFSETTO:+0000
TZOFFSETFROM:+0000
END:STANDARD
END:VTIMEZONE
END:VCALENDAR
